BEGIN:VCALENDAR
VERSION:2.0
PRODID:-//wp-events-plugin.com//7.2.3.1//EN
TZID:Europe/Berlin
X-WR-TIMEZONE:Europe/Berlin
BEGIN:VEVENT
UID:459@fgv-selb-ploessberg.de
DTSTART;TZID=Europe/Berlin:20261127T140000
DTEND;TZID=Europe/Berlin:20261127T160000
DTSTAMP:20260323T103503Z
URL:https://fgv-selb-ploessberg.de/events/christbaum-schmuecken-im-hammerw
 ald/
SUMMARY:Christbaum schmücken im Hammerwald
DESCRIPTION:
ATTACH;FMTTYPE=image/jpeg:https://fgv-selb-ploessberg.de/wp-content/upload
 s/2024/12/IMG-20241129-WA0016.jpg
END:VEVENT
BEGIN:VTIMEZONE
TZID:Europe/Berlin
X-LIC-LOCATION:Europe/Berlin
BEGIN:STANDARD
DTSTART:20261025T020000
TZOFFSETFROM:+0200
TZOFFSETTO:+0100
TZNAME:CET
END:STANDARD
END:VTIMEZONE
END:VCALENDAR