BEGIN:VCALENDAR
VERSION:2.0
PRODID:-//wp-events-plugin.com//7.2.3.1//EN
TZID:Europe/Berlin
X-WR-TIMEZONE:Europe/Berlin
BEGIN:VEVENT
UID:442@fgv-selb-ploessberg.de
DTSTART;TZID=Europe/Berlin:20251004T130000
DTEND;TZID=Europe/Berlin:20251004T180000
DTSTAMP:20250919T120926Z
URL:https://fgv-selb-ploessberg.de/events/familienaktionstag-auf-der-strau
 ssenfarm-mitterhof-in-waldsassen/
SUMMARY:Familienaktionstag auf der Straußenfarm Mitterhof in Waldsassen
DESCRIPTION:Kosten für Personen ab 6 Jahren: ca. 5\,00 €\n\nAnmeldung no
 twendig bis 27.09.2025 unter info@fgv-selb-ploessberg.de\n\nLeitung: Kerst
 in Schacht und Tanja Klier
ATTACH;FMTTYPE=image/jpeg:https://fgv-selb-ploessberg.de/wp-content/upload
 s/2025/05/bird-242715_1920.jpg
CATEGORIES:Familie
LOCATION:Straußenfarm Mitterhof\, Mitterhof 1\, Waldsassen\, 95652\, Deuts
 chland
X-APPLE-STRUCTURED-LOCATION;VALUE=URI;X-ADDRESS=Mitterhof 1\, Waldsassen\, 
 95652\, Deutschland;X-APPLE-RADIUS=100;X-TITLE=Straußenfarm Mitterhof:geo
 :0,0
END:VEVENT
BEGIN:VTIMEZONE
TZID:Europe/Berlin
X-LIC-LOCATION:Europe/Berlin
BEGIN:DAYLIGHT
DTSTART:20250330T030000
TZOFFSETFROM:+0100
TZOFFSETTO:+0200
TZNAME:CEST
END:DAYLIGHT
END:VTIMEZONE
END:VCALENDAR