BEGIN:VCALENDAR
VERSION:2.0
PRODID:-//wp-events-plugin.com//7.2.3.1//EN
TZID:Europe/Berlin
X-WR-TIMEZONE:Europe/Berlin
BEGIN:VEVENT
UID:440@fgv-selb-ploessberg.de
DTSTART;TZID=Europe/Berlin;VALUE=DATE:20250921
DTEND;TZID=Europe/Berlin;VALUE=DATE:20250922
DTSTAMP:20250507T144925Z
URL:https://fgv-selb-ploessberg.de/events/familienradtour/
SUMMARY:Familienradtour
DESCRIPTION:Anmeldung bis 10.09.2025 unter info@fgv-selb-ploessberg.de\n\nL
 eitung: Kerstin Schacht und Tanja Klier
ATTACH;FMTTYPE=image/jpeg:https://fgv-selb-ploessberg.de/wp-content/upload
 s/2022/04/cycling-2520007__480.jpg
CATEGORIES:Familie
END:VEVENT
BEGIN:VTIMEZONE
TZID:Europe/Berlin
X-LIC-LOCATION:Europe/Berlin
BEGIN:DAYLIGHT
DTSTART:20250330T030000
TZOFFSETFROM:+0100
TZOFFSETTO:+0200
TZNAME:CEST
END:DAYLIGHT
END:VTIMEZONE
END:VCALENDAR