BEGIN:VCALENDAR
VERSION:2.0
PRODID:-//wp-events-plugin.com//7.2.3.1//EN
TZID:Europe/Berlin
X-WR-TIMEZONE:Europe/Berlin
BEGIN:VEVENT
UID:310@fgv-selb-ploessberg.de
DTSTART;TZID=Europe/Berlin:20240420T133000
DTEND;TZID=Europe/Berlin:20240420T170000
DTSTAMP:20240214T114146Z
URL:https://fgv-selb-ploessberg.de/events/grosser-familien-aktionstag-im-p
 orzellanikon-selb/
SUMMARY:Großer Familien-Aktionstag im Porzellanikon Selb
DESCRIPTION:Mit Führung\, Dampfmaschinenbetrieb und Gipfeltassen bemalen.\
 n\nKosten: 6\,00 €\nVergünstigt mit der FGV-Card\n\nAnmeldung notwendig
  bis 12.04.2024 bei Kerstin Schacht (Tel.: 09287 - 3684)
ATTACH;FMTTYPE=image/jpeg:https://fgv-selb-ploessberg.de/wp-content/upload
 s/2024/02/brushes-3129361_1280.jpg
LOCATION:Porzellanikon\, Werner-Schürer-Platz 1\, Selb\, 95100\, Deutschla
 nd
X-APPLE-STRUCTURED-LOCATION;VALUE=URI;X-ADDRESS=Werner-Schürer-Platz 1\, S
 elb\, 95100\, Deutschland;X-APPLE-RADIUS=100;X-TITLE=Porzellanikon:geo:0,0
END:VEVENT
BEGIN:VTIMEZONE
TZID:Europe/Berlin
X-LIC-LOCATION:Europe/Berlin
BEGIN:DAYLIGHT
DTSTART:20240331T030000
TZOFFSETFROM:+0100
TZOFFSETTO:+0200
TZNAME:CEST
END:DAYLIGHT
END:VTIMEZONE
END:VCALENDAR