BEGIN:VCALENDAR
VERSION:2.0
PRODID:-//wp-events-plugin.com//7.2.3.1//EN
TZID:Europe/Berlin
X-WR-TIMEZONE:Europe/Berlin
BEGIN:VEVENT
UID:415@fgv-selb-ploessberg.de
DTSTART;TZID=Europe/Berlin;VALUE=DATE:20250222
DTEND;TZID=Europe/Berlin;VALUE=DATE:20250223
DTSTAMP:20250110T100607Z
URL:https://fgv-selb-ploessberg.de/events/halbtageswanderung/
SUMMARY:Halbtageswanderung
DESCRIPTION:Über Treffpunkt\, Organisator und Ziel der Wanderung wird in d
 en bekannten Medien rechtzeitig informiert.
ATTACH;FMTTYPE=image/jpeg:https://fgv-selb-ploessberg.de/wp-content/upload
 s/2025/01/forest-2098407_1920.jpg
CATEGORIES:Wanderung
END:VEVENT
BEGIN:VTIMEZONE
TZID:Europe/Berlin
X-LIC-LOCATION:Europe/Berlin
BEGIN:STANDARD
DTSTART:20241027T020000
TZOFFSETFROM:+0200
TZOFFSETTO:+0100
TZNAME:CET
END:STANDARD
END:VTIMEZONE
END:VCALENDAR