BEGIN:VCALENDAR
VERSION:2.0
PRODID:-//wp-events-plugin.com//7.2.3.1//EN
TZID:Europe/Berlin
X-WR-TIMEZONE:Europe/Berlin
BEGIN:VEVENT
UID:307@fgv-selb-ploessberg.de
DTSTART;TZID=Europe/Berlin:20260411T190000
DTEND;TZID=Europe/Berlin:20260411T234500
DTSTAMP:20260323T101124Z
URL:https://fgv-selb-ploessberg.de/events/tanz-in-den-fruehling-2/
SUMMARY:Tanz in den Frühling
DESCRIPTION:Anmeldung erwünscht. Eintritt frei\nInfos bei Gudrun Hupfauf (
 Tel.: 09287 3582)\n\nOrt: Gasthaus "Zur grünen Au"\, Längenau 26
ATTACH;FMTTYPE=image/jpeg:https://fgv-selb-ploessberg.de/wp-content/upload
 s/2024/02/midsummer-830403_1280.jpg
LOCATION:Erwin Voit\, Längenau\, Längenau 26\, Längenau\, 95100\, Deutsc
 hland
X-APPLE-STRUCTURED-LOCATION;VALUE=URI;X-ADDRESS=Längenau 26\, Längenau\, 
 95100\, Deutschland;X-APPLE-RADIUS=100;X-TITLE=Erwin Voit\, Längenau:geo:
 0,0
END:VEVENT
BEGIN:VTIMEZONE
TZID:Europe/Berlin
X-LIC-LOCATION:Europe/Berlin
BEGIN:DAYLIGHT
DTSTART:20260329T030000
TZOFFSETFROM:+0100
TZOFFSETTO:+0200
TZNAME:CEST
END:DAYLIGHT
END:VTIMEZONE
END:VCALENDAR