BEGIN:VCALENDAR
VERSION:2.0
PRODID:-//wp-events-plugin.com//7.2.3.1//EN
TZID:Europe/Berlin
X-WR-TIMEZONE:Europe/Berlin
BEGIN:VEVENT
UID:411@fgv-selb-ploessberg.de
DTSTART;TZID=Europe/Berlin:20250130T190000
DTEND;TZID=Europe/Berlin:20250130T210000
DTSTAMP:20250120T173548Z
URL:https://fgv-selb-ploessberg.de/events/vereinsabend-pilgerreise-auf-dem
 -jakobsweg/
SUMMARY:Vortrag "Pilgerreise auf dem Jakobsweg"
DESCRIPTION:Elfriede Schaller\, langjähriges und engagiertes Mitglied im F
 GV Selb-Plößberg\, wird einen Vortrag zu ihren drei Pilgerreisen halten\
 , die sie im Laufe der letzten Jahre gemacht hat und nimmt uns mit auf den
  Camino del Norde\, den Camino Portugues und die Via de la Plata in ihren 
 verschiedenen Facetten.\nIn diesem Vortrag geht es sowohl um das Pilgerrei
 sen als eine ganz besondere\, inspirierende Reiseart\, um die speziellen V
 orbereitungen und Dokumente\, aber auch um die ganz praktischen Dinge\, di
 e unbedingt erforderlich sind. Dazu kommen natürlich interessante\, amüs
 ante und nachdenkliche Erzählungen und Geschichten sowie ganz wundervolle
  Bilder ihrer Reisen.\n\nIn den vergangenen Wochen hat auch die Frankenpos
 t über diese ganz besonderen Reisen von Elfriede Schaller berichtet.\n\nW
 ir laden alle interessierten Nichtmitglieder und Mitglieder sehr herzlich 
 ein! Eine Anmeldung ist nicht erforderlich und der Eintritt ist frei. Für
  Sitzgelegenheiten und kalte Getränke ist ausreichend gesorgt.\n\n&nbsp\;
 \n\nOrt: Gemeinschaftshaus am Jochen-Klepper-Haus\, Jakob-Zeidler-Straße 
 5\, 95100 Selb-Plößberg
ATTACH;FMTTYPE=image/jpeg:https://fgv-selb-ploessberg.de/wp-content/upload
 s/2025/01/nature-3306920_1920.jpg
END:VEVENT
BEGIN:VTIMEZONE
TZID:Europe/Berlin
X-LIC-LOCATION:Europe/Berlin
BEGIN:STANDARD
DTSTART:20241027T020000
TZOFFSETFROM:+0200
TZOFFSETTO:+0100
TZNAME:CET
END:STANDARD
END:VTIMEZONE
END:VCALENDAR