BEGIN:VCALENDAR
VERSION:2.0
PRODID:-//wp-events-plugin.com//7.2.3.1//EN
TZID:Europe/Berlin
X-WR-TIMEZONE:Europe/Berlin
BEGIN:VEVENT
UID:439@fgv-selb-ploessberg.de
DTSTART;TZID=Europe/Berlin:20260913T080000
DTEND;TZID=Europe/Berlin:20260913T160000
DTSTAMP:20260323T105129Z
URL:https://fgv-selb-ploessberg.de/events/wandertag-selber-lions-club/
SUMMARY:Wandertag Selber Lions-Club
DESCRIPTION:
ATTACH;FMTTYPE=image/jpeg:https://fgv-selb-ploessberg.de/wp-content/upload
 s/2025/05/hiking-1232453_1920.jpg
CATEGORIES:Wanderung
END:VEVENT
BEGIN:VTIMEZONE
TZID:Europe/Berlin
X-LIC-LOCATION:Europe/Berlin
BEGIN:DAYLIGHT
DTSTART:20260329T030000
TZOFFSETFROM:+0100
TZOFFSETTO:+0200
TZNAME:CEST
END:DAYLIGHT
END:VTIMEZONE
END:VCALENDAR